BEGIN:VCALENDAR
VERSION:2.0
PRODID:-//AOPA Germany - ECPv6.15.20//NONSGML v1.0//EN
CALSCALE:GREGORIAN
METHOD:PUBLISH
X-WR-CALNAME:AOPA Germany
X-ORIGINAL-URL:https://aopa.de
X-WR-CALDESC:Veranstaltungen für AOPA Germany
REFRESH-INTERVAL;VALUE=DURATION:PT1H
X-Robots-Tag:noindex
X-PUBLISHED-TTL:PT1H
BEGIN:VTIMEZONE
TZID:Europe/Berlin
BEGIN:DAYLIGHT
TZOFFSETFROM:+0100
TZOFFSETTO:+0200
TZNAME:CEST
DTSTART:20210328T010000
END:DAYLIGHT
BEGIN:STANDARD
TZOFFSETFROM:+0200
TZOFFSETTO:+0100
TZNAME:CET
DTSTART:20211031T010000
END:STANDARD
BEGIN:DAYLIGHT
TZOFFSETFROM:+0100
TZOFFSETTO:+0200
TZNAME:CEST
DTSTART:20220327T010000
END:DAYLIGHT
BEGIN:STANDARD
TZOFFSETFROM:+0200
TZOFFSETTO:+0100
TZNAME:CET
DTSTART:20221030T010000
END:STANDARD
BEGIN:DAYLIGHT
TZOFFSETFROM:+0100
TZOFFSETTO:+0200
TZNAME:CEST
DTSTART:20230326T010000
END:DAYLIGHT
BEGIN:STANDARD
TZOFFSETFROM:+0200
TZOFFSETTO:+0100
TZNAME:CET
DTSTART:20231029T010000
END:STANDARD
END:VTIMEZONE
BEGIN:VEVENT
DTSTART;TZID=Europe/Berlin:20220305T090000
DTEND;TZID=Europe/Berlin:20220305T160000
DTSTAMP:20260425T162000
CREATED:20211007T111229Z
LAST-MODIFIED:20220304T081153Z
UID:13968-1646470800-1646496000@aopa.de
SUMMARY:AOPA IFR Refresher online
DESCRIPTION:[vc_row][vc_column][vc_column_text] \nMehr Sicherheit durch Vertiefung Ihrer Instrumentenflug Kenntnisse\n[/vc_column_text][/vc_column][/vc_row][vc_row][vc_column width=”2/3″][vc_column_text]Das Seminar findet online von 09:00 – 16:00 Uhr statt.\n \nSingle Pilot IFR gehört zu den grössten Herausforderungen im Bereich der Luftfahrt. Hand aufs Herz – welchem IFR Piloten ist es nicht schon passiert\, dass Verfahren nicht so liefen wie gedacht\, dass die Workload grösser war als üblich und Stress aufgekommen ist? \nDas AOPA IFR Refresher Seminar führt Sie im Verlaufe eines 6-stündigen Seminars wieder näher heran an folgende Themen:\n• Flugvorbereitung IFR\n• Kartenkunde\n• IFR Verfahren: Zulu Departure\, Enroute\, Arrival\, Holding\, Approach\, Cancel IFR\n• Performance Based Navigation (PBN)\n• Automation Management – Die Herausforderungen der modernen Avionik\n• Unusual Attitude Recovery\n• Wetter im Flug\n• Wie zunehmender Stress die Entscheidungsfähigkeit einschränkt \nDas Seminar wird von erfahrenen IFR Lehrern gestaltet. Profitieren Sie von deren Erfahrung\, frischen Sie Ihre eigenen IFR Kenntnisse wieder auf und lernen Sie\, was es Neues gibt. \nAnmeldeschluss: 21.02.2022 \nKosten / Teilnahmegebühr pro Person \n160 EUR für AOPA-Mitglieder\n200 EUR für Nichtmitglieder \n(Preise inklusive MwSt.) \n [/vc_column_text][/vc_column][vc_column width=”1/3″][vc_column_text]in Kooperation mit:[/vc_column_text][vc_single_image image=”9896″ img_size=”medium”][vc_single_image image=”9898″ img_size=”medium” onclick=”link_image” css_animation=”fadeInRight”][/vc_column][/vc_row][vc_row][vc_column][vc_column_text] \nAnmeldeformular\n[/vc_column_text][/vc_column][/vc_row][vc_row][vc_column]\n\n  \n\n\n\n\nAngaben zum Teilnehmer:\n \nVor- und Zuname*:\n \n \nAOPA-ID:\n \n \nGeb.-Datum*:\n \n \nStraße*:\n \n \nPLZ*:\n \n \nOrt*:\n \n \nTelefon*:\n \n \nBitte lasse dieses Feld leer.\n \nE-Mail-Adresse\n \n \n Bemerkungen\, Wünsche\n \n \nZahlung:\n \nZahlungsart*\n– Bitte auswählen –Überweisung nach RechnungserhaltFür Mitglieder: Bitte nutzen Sie mein SEPA Lastschriftmandat\n \nDatenschutz:\nDatenschutz Zustimmung für Zoom (Einwilligung erforderlich)\n \n1. Die o.g. Veranstaltung wird als Online-Seminar durchgeführt. Die AOPA-Germany nutzt dazu die Plattform „Zoom“.\nIch nehme zur Kenntnis und willige ein\, dass im Rahmen des o.g. Online-Seminars durch die Nutzung des Programms Zoom – Zoom Video Communications\, 55 Almaden Blvd\, Suite 600\, San Jose\, Kalifornien (95113)\, USA – personenbezogene Daten verarbeitet werden. Der Datenschutzbeauftragte des Unternehmens ist unter privacy@zoom.us zu erreichen.\n \nDie Datenschutzerkärung von Zoom ist unter diesem Link abrufbar.\n \nAGB und Datenschutz der Website (Einwilligung erforderlich)\nIch akzeptiere die AGBs Link zu den AGBs\nIch stimme den Datenschutzbestimmungen der Website zuDatenschutzbestimmungen der Website zu.\n \nIch habe jederzeit die Möglichkeit\, von der AOPA-Germany Auskunft über die gespeicherten Daten zu meiner Person zu erhalten bzw. diese selbst einzusehen. Ich kann jederzeit die Berichtigung\, Löschung und Sperrung einzelner personenbezogener Daten verlangen.\n \nMeine Einwilligungserklärung gebe ich freiwillig ab. Ich kann darüber hinaus jederzeit ohne Angabe von Gründen von meinem Widerspruchsrecht Gebrauch machen und die erteilte Einwilligungserklärung mit Wirkung für die Zukunft abändern oder gänzlich widerrufen. Ich kann den Widerruf entweder postalisch oder per E-Mail gegenüber der AOPA-Germany (info@aopa.de) übermitteln.\n \n\n Δ \n\n\n[/vc_column][/vc_row][vc_row][vc_column][vc_column_text]Unsere AGBs \nUnsere Datenschutzbestimmungen[/vc_column_text][/vc_column][/vc_row]
URL:https://aopa.de/event/aopa-ifr-refresher-in-egelsbach/
CATEGORIES:AOPA Seminare
END:VEVENT
BEGIN:VEVENT
DTSTART;VALUE=DATE:20220313
DTEND;VALUE=DATE:20220314
DTSTAMP:20260425T162000
CREATED:20210914T124012Z
LAST-MODIFIED:20210914T124012Z
UID:13776-1647129600-1647215999@aopa.de
SUMMARY:online Seminar: Einführung in Europäische Flugzeugwartung für Piloten und Eigner am 13.03.2022
DESCRIPTION:[vc_row][vc_column width=”2/3″][vc_column_text] \nSeminarbeschreibung\n\nDas Seminar findet online von 09:00 – 16:00 Uhr statt. Voraussetzung zur Teilnahme ist eine gute W-Lan Verbindung und ein Tablet oder Computer mit Webcam oder Smartphone. \nObwohl ein Pilot und Flugzeugeigner nach europäischem Wartungsrecht über die Pilot-Owner-Maintenance gewisse Rechte zur Freigabe ausüben darf\, ist die Wartung von Flugzeugen nicht Bestandteil des LAPL oder PPL. Der Flugzeugeigner muss sich selbständig durch das Dickicht der Europäischen Wartungsregularien schlagen und seine Informationen zusammensuchen. \nDas Seminar „Einführung in Europäische Flugzeugwartung für Piloten und Eigner“ führt Sie in die Grundlagen des Europäischen Wartungsrechts heran. \nDie Themen sind: \n\nStruktur und Aufbau Europäisches Wartungsrecht\, insbesondere mit Blick auf Teil-ML und Teil-66\nArt von Europäischen Wartungsbetrieben (Teil-M Subpart f\, CAO\, CAMO\, Teil 145)\nKonzepte und Begrifflichkeiten zu Wartung\, Reparatur und Lufttüchtigkeit\nWartungsdokumentation\, ARC\, RTS\nAufbau und Inhalte von Instandhaltsungsprogrammen\nAufbau und Inhalte von Wartungsakten\, Betriebszeitenübersicht\, LTA-Übersicht\, Änderungsübersicht\nKonzept und Umfang von Pilot-Owner-Maintenance\nAusfüllhilfe für Freigabebescheinigungen\, IHP und Wartungsübersichten\n\n\n  \nAnmeldeschluss: 07.03.2022 \nKosten / Teilnahmegebühr pro Person \n160 EUR für AOPA-Mitglieder\n200 EUR für Nichtmitglieder \n(Preise inklusive MwSt.) \n [/vc_column_text][/vc_column][vc_column width=”1/3″][vc_single_image image=”10162″ img_size=”medium” onclick=”link_image” css_animation=”fadeInLeft”][vc_column_text css_animation=”fadeInRight”]in Kooperation mit Aufwind[/vc_column_text][/vc_column][/vc_row][vc_row][vc_column][vc_column_text]Anmeldeformular:[/vc_column_text][/vc_column][/vc_row][vc_row][vc_column]Fehler: Kontaktformular wurde nicht gefunden. [/vc_column][/vc_row][vc_row][vc_column][vc_column_text]Unsere AGBs \nUnsere Datenschutzbestimmungen[/vc_column_text][/vc_column][/vc_row]
URL:https://aopa.de/event/online-seminar-einfuehrung-in-europaeische-flugzeugwartung-fuer-piloten-und-eigner-am-13-03-2022/
CATEGORIES:AOPA Seminare
END:VEVENT
BEGIN:VEVENT
DTSTART;TZID=Europe/Berlin:20220316T180000
DTEND;TZID=Europe/Berlin:20220316T220000
DTSTAMP:20260425T162000
CREATED:20210914T124251Z
LAST-MODIFIED:20210914T124251Z
UID:13778-1647453600-1647468000@aopa.de
SUMMARY:AOPA online Workshop zur Struktur der Wartungsakte am 16.03.2022
DESCRIPTION:[vc_row][vc_column width=”2/3″][vc_column_text] \nSeminarbeschreibung\nBeim Flugzeugkauf gibt es immer einen mehr oder weniger sortierten Stapel Papier zum Luftfahrtzeug\, der den aktuellen technischen Zustand dokumentieren soll. Natürlich macht das Europäische Wartungsrecht Vorgaben für die Mindestinhalte einer solchen Wartungsdokumentation. Darüber hinaus haben sich aus der Praxis bestimmte zusätzliche Inhalte ergeben\, die für die Wartung des Flugzeuges sinnvoll sind. Jedoch kann auch zu viel Dokumentation stören: Man verliert schnell beim Sammeln von Kleinigkeiten den Blick aufs Wesentliche. \nDieses Seminar möchte vermitteln\, wie eine pragmatische Wartungsakte aufgebaut ist\, und wie sie nachhaltig gepflegt werden kann. \n\nAufbau und Struktur einer Wartungsakte\nVorgeschriebene und Sinnvolle Inhalte\nAufbewahrungsfristen\nFortführung der Dokumentation\n\n  \nAnmeldeschluss: 11.03.2022 \nKosten / Teilnahmegebühr pro Person \n100 EUR für AOPA-Mitglieder\n125 EUR für Nichtmitglieder \n(Preise inklusive MwSt.) \n [/vc_column_text][/vc_column][vc_column width=”1/3″][vc_column_text css_animation=”fadeInRight”]in Kooperation mit Aufwind[/vc_column_text][/vc_column][/vc_row][vc_row][vc_column][vc_column_text]Anmeldeformular:[/vc_column_text][/vc_column][/vc_row][vc_row][vc_column]\n\n  \n\n\n\n\nAngaben zum Teilnehmer:\n \nVor- und Zuname*:\n \n \nAOPA-ID:\n \n \nGeb.-Datum*:\n \n \nStraße*:\n \n \nPLZ*:\n \n \nOrt*:\n \n \nTelefon*:\n \n \nBitte lasse dieses Feld leer.\n \nE-Mail-Adresse*\n \n \n Bemerkungen\, Wünsche\n \n \nZahlung:\n \nZahlungsart*\n– Bitte auswählen –Überweisung nach RechnungserhaltFür Mitglieder: Bitte nutzen Sie mein SEPA Lastschriftmandat\n \nIm Rahmen der oben genannten Veranstaltung informieren wir über nachstehende Datenverarbeitungsvorgänge gemäß Art. 6 Abs. 1 S. 1 a)\, c) Datenschutz-Grundverordnung (DS-GVO) und bitten um Erteilung der folgenden Einwilligung (zutreffendes bitte ankreuzen):\n \nDatenschutz Zustimmung für Zoom (Einwilligung erforderlich)\n \nDie o.g. Veranstaltung wird als Online-Seminar durchgeführt. Der Referent nutzt dazu die Plattform „Zoom“.\nIch nehme zur Kenntnis und willige ein\, dass im Rahmen des o.g. Online-Seminars durch die Nutzung des Programms Zoom – Zoom Video Communications\, 55 Almaden Blvd\, Suite 600\, San Jose\, Kalifornien (95113)\, USA – personenbezogene Daten verarbeitet werden. Der Datenschutzbeauftragte des Unternehmens ist unter privacy@zoom.us zu erreichen.\n \nDie Datenschutzerkärung von Zoom ist unter diesem Link abrufbar.\n \nZur Erfüllung und Förderung der Satzungsziele und einer nachhaltig positiven Verbandsentwicklung betreibt der Verein eine Website sowie Seiten in den Sozialen Medien (Facebook\, Twitter\, Linkedin)\, um den Verband vorzustellen und die über aktuelle Entwicklungen zu berichten.\n \nDatenschutz Zustimmung für Fotos (freiwillig)\nIch nehme zur Kenntnis und willige ein\, dass die AOPA-Germany im Rahmen der Teilnahme an der Veranstaltung die folgenden personenbezogenen Daten ggfs im Internet (www.aopa.de\, Facebook-Seite\, Twitter-Seite und Linkedin Seite) der AOPA-Germany und in der Presse (u.a. AOPA-Letter) veröffentlicht:\nAnrede\, Titel\, Vorname\, Name\, Fotos\, Videoaufnahmen.\nMir ist bewusst\, dass trotz aller Maßnahmen zur Gewährung des Datenschutzes die im Internet oder in der Presse veröffentlichten Daten auch in Staaten abrufbar sind\, die keine der Bundesrepublik Deutschland vergleichbaren Datenschutzbestimmungen kennen. Ein Veröffentlichungsentgelt oder eine Lizenzgebühr steht mir nicht zu.\n \nAGB und Datenschutz der Website (Einwilligung erforderlich)\nIch akzeptiere die AGBs Link zu den AGBs\nIch stimme den Datenschutzbestimmungen der Website zuDatenschutzbestimmungen der Website zu.\n \nIch habe jederzeit die Möglichkeit\, vom Verband Auskunft über die gespeicherten Daten zu meiner Person zu erhalten bzw. diese selbst einzusehen. Ich kann jederzeit die Berichtigung\, Löschung und Sperrung einzelner personenbezogener Daten verlangen. Meine Einwilligungserklärung gebe ich freiwillig ab. Ich kann darüber hinaus jederzeit ohne Angabe von Gründen von meinem Widerspruchsrecht Gebrauch machen und die erteilte Einwilligungserklärung mit Wirkung für die Zukunft abändern oder gänzlich widerrufen. Ich kann den Widerruf entweder postalisch oder per E-Mail (info@aopa.de) an den Vorstand übermitteln."\n \n\n Δ \n\n\n[/vc_column][/vc_row][vc_row][vc_column][vc_column_text]Unsere AGBs \nUnsere Datenschutzbestimmungen[/vc_column_text][/vc_column][/vc_row]
URL:https://aopa.de/event/aopa-online-workshop-zur-struktur-der-wartungsakte-am-16-03-2022/
LOCATION:online Veranstaltung
CATEGORIES:AOPA Seminare
END:VEVENT
END:VCALENDAR