BEGIN:VCALENDAR
VERSION:2.0
PRODID:-//AOPA Germany - ECPv6.15.20//NONSGML v1.0//EN
CALSCALE:GREGORIAN
METHOD:PUBLISH
X-WR-CALNAME:AOPA Germany
X-ORIGINAL-URL:https://aopa.de
X-WR-CALDESC:Veranstaltungen für AOPA Germany
REFRESH-INTERVAL;VALUE=DURATION:PT1H
X-Robots-Tag:noindex
X-PUBLISHED-TTL:PT1H
BEGIN:VTIMEZONE
TZID:Europe/Berlin
BEGIN:DAYLIGHT
TZOFFSETFROM:+0100
TZOFFSETTO:+0200
TZNAME:CEST
DTSTART:20240331T010000
END:DAYLIGHT
BEGIN:STANDARD
TZOFFSETFROM:+0200
TZOFFSETTO:+0100
TZNAME:CET
DTSTART:20241027T010000
END:STANDARD
BEGIN:DAYLIGHT
TZOFFSETFROM:+0100
TZOFFSETTO:+0200
TZNAME:CEST
DTSTART:20250330T010000
END:DAYLIGHT
BEGIN:STANDARD
TZOFFSETFROM:+0200
TZOFFSETTO:+0100
TZNAME:CET
DTSTART:20251026T010000
END:STANDARD
BEGIN:DAYLIGHT
TZOFFSETFROM:+0100
TZOFFSETTO:+0200
TZNAME:CEST
DTSTART:20260329T010000
END:DAYLIGHT
BEGIN:STANDARD
TZOFFSETFROM:+0200
TZOFFSETTO:+0100
TZNAME:CET
DTSTART:20261025T010000
END:STANDARD
END:VTIMEZONE
BEGIN:VEVENT
DTSTART;TZID=Europe/Berlin:20250301T100000
DTEND;TZID=Europe/Berlin:20250301T130000
DTSTAMP:20260422T125507
CREATED:20250218T093324Z
LAST-MODIFIED:20250218T093324Z
UID:89966-1740823200-1740834000@aopa.de
SUMMARY:Einladung zum Frankfurter Gespräch
DESCRIPTION:Am Samstag\, den 1. März 2025\, lädt der Arbeitskreis Luftraum Frankfurt alle Luftsportlerinnen und Luftsportler im Einzugsgebiet des Flughafens Frankfurt am Main zum Frankfurter Gespräch 2025 ein. \n\n\nWann: Samstag\, den 01.03.2025\, von 10:00 Uhr bis ca. 13:00 Uhr \nWo: Institut für Sportwissenschaften\, Goethe Universität\, Sportcampus Ginnheim Neuer Hörsaal\, Ginnheimer Landstr. 39\, 60487 Frankfurt am Main \nWer: Pilotinnen und Piloten\, die den Frankfurter Luftraum befliegen und Vertreter der Deutschen Flugsicherung (DFS) \nHier finden Sie die Einladung im pdf Format.
URL:https://aopa.de/event/einladung-zum-frankfurter-gespraech/
LOCATION:Goethe Universität Frankfurt am Main\, Goethe Universität\, Sportcampus Ginnheim Neuer Hörsaal\, Ginnheimer Landstr. 39\,\, Frankfurt\, Hessen\, 60487\, Germany
CATEGORIES:AOPA Termine
END:VEVENT
END:VCALENDAR